BEGIN:VCALENDAR
METHOD:PUBLISH
PRODID:-//doubleknot.com//CalenderEvent MIMEDIR//EN
VERSION:2.0
BEGIN:VEVENT
UID:3143719-20260429T193000Z-20260429T220000Z@doubleknot.com
CREATED:20260415T214458Z
LAST-MODIFIED:20260415T214458Z
DTSTAMP:20260422T174323Z
DTSTART:20260429T193000Z
DTEND:20260429T220000Z
LOCATION:510 N Sante Fe Street, El Paso, TX 79901, US
CATEGORIES:
DESCRIPTION:Ages 14 - 18 \n  \n  \n Join us for a homeschool session at the El Paso Museum of History as we explore the environment as a lens for learning history. In honor of Earth Day this month, we will be focused on our permanent exhibit Changing Pass. This session is designed for high school students and will cover topics like adobe architecture, Smeltertown, and the river as a border. Over the course of the session, participants will learn more about how humans have shaped the environment locally and how the environment has shaped El Paso&rsquo;s development in return. \n  \n  \n For questions, please contact Nora Rose at RoseN@elpasotexas.gov \n 
SUMMARY:Homeschool at History: Changing Pass
PRIORITY:5
BEGIN:VALARM
TRIGGER:PT15M
ACTION:DISPLAY
DESCRIPTION:Reminder
PRIORITY:5
END:VALARM
END:VEVENT
END:VCALENDAR
